BEGIN:VCALENDAR
VERSION:2.0
PRODID:-//Quarteto Contratempus - ECPv6.15.20//NONSGML v1.0//EN
CALSCALE:GREGORIAN
METHOD:PUBLISH
X-WR-CALNAME:Quarteto Contratempus
X-ORIGINAL-URL:https://www.quartetocontratempus.com
X-WR-CALDESC:Eventos para Quarteto Contratempus
REFRESH-INTERVAL;VALUE=DURATION:PT1H
X-Robots-Tag:noindex
X-PUBLISHED-TTL:PT1H
BEGIN:VTIMEZONE
TZID:Europe/Lisbon
BEGIN:DAYLIGHT
TZOFFSETFROM:+0000
TZOFFSETTO:+0100
TZNAME:WEST
DTSTART:20250330T010000
END:DAYLIGHT
BEGIN:STANDARD
TZOFFSETFROM:+0100
TZOFFSETTO:+0000
TZNAME:WET
DTSTART:20251026T010000
END:STANDARD
BEGIN:DAYLIGHT
TZOFFSETFROM:+0000
TZOFFSETTO:+0100
TZNAME:WEST
DTSTART:20260329T010000
END:DAYLIGHT
BEGIN:STANDARD
TZOFFSETFROM:+0100
TZOFFSETTO:+0000
TZNAME:WET
DTSTART:20261025T010000
END:STANDARD
BEGIN:DAYLIGHT
TZOFFSETFROM:+0000
TZOFFSETTO:+0100
TZNAME:WEST
DTSTART:20270328T010000
END:DAYLIGHT
BEGIN:STANDARD
TZOFFSETFROM:+0100
TZOFFSETTO:+0000
TZNAME:WET
DTSTART:20271031T010000
END:STANDARD
END:VTIMEZONE
BEGIN:VEVENT
DTSTART;TZID=Europe/Lisbon:20260412T100000
DTEND;TZID=Europe/Lisbon:20260412T120000
DTSTAMP:20260421T002304
CREATED:20260401T094220Z
LAST-MODIFIED:20260401T095010Z
UID:5874-1775988000-1775995200@www.quartetocontratempus.com
SUMMARY:Tempo de Florir - Sessão de Música em Família
DESCRIPTION:Ópera "Pequena História de um Povo com Memória"				\n				\n				\n				\n									18 de abril de 2026 às 21h30 no Espaço Montemuro\, na aldeia de Campo Benfeito (Viseu) 								\n				\n				\n				\n									\n					\n						\n									Bilheteira Espaço Montemuro\n					\n					\n				\n								\n				\n				\n				\n									  		\n						\n						\n					\n			\n						\n				\n						\n					\n				\n		\n				\n											\n\n							\n\n								\n								\n									\n										\n									\n																	\n								\n								\n							\n\n						\n\n						\n											\n\n							\n\n								\n								\n									\n										\n									\n																	\n								\n								\n							\n\n						\n\n						\n											\n\n							\n\n								\n								\n									\n										\n									\n																	\n								\n								\n							\n\n						\n\n						\n											\n\n							\n\n								\n								\n									\n										\n									\n																	\n								\n								\n							\n\n						\n\n						\n											\n\n							\n\n								\n								\n									\n										\n									\n																	\n								\n								\n							\n\n						\n\n						\n											\n\n							\n\n								\n								\n									\n										\n									\n																	\n								\n								\n							\n\n						\n\n						\n											\n\n							\n\n								\n								\n									\n										\n									\n																	\n								\n								\n							\n\n						\n\n						\n											\n\n							\n\n								\n								\n									\n										\n									\n																	\n								\n								\n							\n\n						\n\n						\n											\n\n							\n\n								\n								\n									\n										\n									\n																	\n								\n								\n							\n\n						\n\n						\n											\n\n							\n\n								\n								\n									\n										\n									\n																	\n								\n								\n							\n\n						\n\n						\n											\n\n							\n\n								\n								\n									\n										\n									\n																	\n								\n								\n							\n\n						\n\n						\n											\n\n							\n\n								\n								\n									\n										\n									\n																	\n								\n								\n							\n\n						\n\n						\n											\n\n							\n\n								\n								\n									\n										\n									\n																	\n								\n								\n							\n\n						\n\n						\n											\n\n							\n\n								\n								\n									\n										\n									\n																	\n								\n								\n							\n\n						\n\n						\n											\n\n							\n\n								\n								\n									\n										\n									\n																	\n								\n								\n							\n\n						\n\n						\n											\n\n							\n\n								\n								\n									\n										\n									\n																	\n								\n								\n							\n\n						\n\n						\n											\n\n							\n\n								\n								\n									\n										\n									\n																	\n								\n								\n							\n\n						\n\n						\n											\n\n							\n\n								\n								\n									\n										\n									\n																	\n								\n								\n							\n\n						\n\n						\n									\n\n							\n\n			\n						\n							\n											\n										Previous\n				\n				\n											\n										Next\n				\n						\n								\n				\n				\n				\n					Ópera: Pequena História de um Povo com Memória – Espaço Montemuro				\n				\n				\n				\n					Uma ópera sobre o 25 de abril de 1974				\n				\n				\n				\n									SinopsePequena História de Um Povo com Memória é um projeto sobre a liberdade\, dedicado a toda a família. Existe no património português um percurso associado a este conceito\, que rapidamente se extingue no curso dos acontecimentos atuais e banais. A História existe na nossa memória\, mas é importante reativá-la para a reencontrarmos no tempo e no espaço!  Como era…? Como era quando as pessoas não podiam dizer o que sentiam\, nem fazer o que queriam porque havia vigias por toda a parte? Como era quando não se podia ouvir certas música e ver os filmes que se queria? Como era quando a roupa das meninas e dos meninos era controlada? Como era quando era obrigatório ir para a guerra e lutar contra pessoas que não nos fizeram mal? Como era…e como é …reencontrar esta história e recontá-la nos dias que correm? A pesquisa incide sobre o levantamento destes acontecimentos históricos e leva-os a cena através de linguagens multidisciplinares e contemporâneas\, para reativar a ideia de liberdade e capacidade de a usufruir e preservar. No decurso da criação surge a voz\, a nossa capacidade de comunicar\, de cantar e de fazer a revolução. Pequena História de Um Povo com Memória é uma ópera transdisciplinar\, que pretende cantar e contar\, aquilo que se torna fundamental para a construção da identidade do ser humano – a liberdade – como fundamento da nossa identidade e história. 								\n				\n				\n						\n					\n			\n						\n				\n							\n			\n						\n		\n						\n				\n				\n				\n									Género: Ópera de Câmara MultimédiaClassificação etária: M/6 anosDuração: 50 minutosÓpera em Português com legendagem em Português 								\n				\n				\n				\n							\n			\n						\n		\n						\n				\n				\n				\n							\n					\n						\n				\n				\n				\n							\n			\n						\n		\n						\n				\n				\n				\n									[Estreia] 8 e 9 de maio de 2021 – Auditório Municipal de Gondomar3 e 4 de março de 2022 – Centro Cultural de Paredes de Coura6 e 7 de outubro de 2022 – Teatro Diogo Bernardes (Ponte de Lima)21 de outubro de 2022 – Teatro Municipal de Matosinhos Constantino Nery28 e 29 de abril de 2023 – Casa da Música do Porto7 de abril de 2024 – Teatro Gil Vicente (Barcelos)24 de abril de 2024 às 17h00 e às 21h30 – Auditório Municipal de Esposende11 de janeiro de 2025 – Cineteatro de Sobral de Monte Agraço18 de abril de 2026 – Espaço Montemuro (Castro Daire) 								\n				\n				\n				\n							\n			\n						\n		\n						\n				\n					\n		\n				\n			\n						\n				\n									Equipa Composição e Libreto: João GriloEncenação e Libreto: Julieta RodriguesIntérpretes: Teresa Nunes (Soprano)\, Crispim Luz (Clarinete)\, Ana Conceição (Violoncelo)\, Sérgio de A (Piano)Desenho Multimédia: Hugo MesquitaDesenho de Luz: Mariana FigueroaDesenho de Som: André J. LeiteOperação de Som: José Afonso MonteiroConcepção de Figurinos e Cenários: Julieta RodriguesCostureira: Marlene RodriguezConstrução de cenários: Rui AzevedoProdução Executiva: Tatiana Rocha (2021 a 2022)\, Marta de Baptista (2023\, 2024) e Jessica Roque (2024)Registo Vídeo: Mário NegrãoRegisto Fotografia: Pedro Sardinha O Quarteto Contratempus é uma estrutura financiada pela República Portuguesa – Cultura / Direção Geral das Artes Apoio: Antena 2\, Riopele\, Nascente – Coorperativa de Ação Cultural\, Fundação GDAParceiros: Município de Gondomar\, Escola Superior de Música e Artes do Espetáculo   								\n				\n					\n		\n					\n		\n					\n		\n					\n		\n				\n		   
URL:https://www.quartetocontratempus.com/eventos/tempo-de-florir-sessao-de-musica-em-familia/
LOCATION:Espaço QC\, Rua Chaves de Oliveira\, 132\, Porto\, Porto\, 4350-102\, Portugal
CATEGORIES:Espaço QC
ATTACH;FMTTYPE=image/jpeg:https://www.quartetocontratempus.com/wp-content/uploads/2026/04/Tempo-de-florir.jpeg
END:VEVENT
BEGIN:VEVENT
DTSTART;TZID=Europe/Lisbon:20260418T213000
DTEND;TZID=Europe/Lisbon:20260418T223000
DTSTAMP:20260421T002304
CREATED:20260409T141137Z
LAST-MODIFIED:20260409T143210Z
UID:5886-1776547800-1776551400@www.quartetocontratempus.com
SUMMARY:Ópera: Pequena História de um Povo com Memória - Espaço Montemuro
DESCRIPTION:Ópera "Pequena História de um Povo com Memória"				\n				\n				\n				\n									18 de abril de 2026 às 21h30 no Espaço Montemuro\, na aldeia de Campo Benfeito (Viseu) 								\n				\n				\n				\n									\n					\n						\n									Bilheteira Espaço Montemuro\n					\n					\n				\n								\n				\n				\n				\n									  		\n						\n						\n					\n			\n						\n				\n						\n					\n				\n		\n				\n											\n\n							\n\n								\n								\n									\n										\n									\n																	\n								\n								\n							\n\n						\n\n						\n											\n\n							\n\n								\n								\n									\n										\n									\n																	\n								\n								\n							\n\n						\n\n						\n											\n\n							\n\n								\n								\n									\n										\n									\n																	\n								\n								\n							\n\n						\n\n						\n											\n\n							\n\n								\n								\n									\n										\n									\n																	\n								\n								\n							\n\n						\n\n						\n											\n\n							\n\n								\n								\n									\n										\n									\n																	\n								\n								\n							\n\n						\n\n						\n											\n\n							\n\n								\n								\n									\n										\n									\n																	\n								\n								\n							\n\n						\n\n						\n											\n\n							\n\n								\n								\n									\n										\n									\n																	\n								\n								\n							\n\n						\n\n						\n											\n\n							\n\n								\n								\n									\n										\n									\n																	\n								\n								\n							\n\n						\n\n						\n											\n\n							\n\n								\n								\n									\n										\n									\n																	\n								\n								\n							\n\n						\n\n						\n											\n\n							\n\n								\n								\n									\n										\n									\n																	\n								\n								\n							\n\n						\n\n						\n											\n\n							\n\n								\n								\n									\n										\n									\n																	\n								\n								\n							\n\n						\n\n						\n											\n\n							\n\n								\n								\n									\n										\n									\n																	\n								\n								\n							\n\n						\n\n						\n											\n\n							\n\n								\n								\n									\n										\n									\n																	\n								\n								\n							\n\n						\n\n						\n											\n\n							\n\n								\n								\n									\n										\n									\n																	\n								\n								\n							\n\n						\n\n						\n											\n\n							\n\n								\n								\n									\n										\n									\n																	\n								\n								\n							\n\n						\n\n						\n											\n\n							\n\n								\n								\n									\n										\n									\n																	\n								\n								\n							\n\n						\n\n						\n											\n\n							\n\n								\n								\n									\n										\n									\n																	\n								\n								\n							\n\n						\n\n						\n											\n\n							\n\n								\n								\n									\n										\n									\n																	\n								\n								\n							\n\n						\n\n						\n									\n\n							\n\n			\n						\n							\n											\n										Previous\n				\n				\n											\n										Next\n				\n						\n								\n				\n				\n				\n					Ópera: Pequena História de um Povo com Memória – Espaço Montemuro				\n				\n				\n				\n					Uma ópera sobre o 25 de abril de 1974				\n				\n				\n				\n									SinopsePequena História de Um Povo com Memória é um projeto sobre a liberdade\, dedicado a toda a família. Existe no património português um percurso associado a este conceito\, que rapidamente se extingue no curso dos acontecimentos atuais e banais. A História existe na nossa memória\, mas é importante reativá-la para a reencontrarmos no tempo e no espaço!  Como era…? Como era quando as pessoas não podiam dizer o que sentiam\, nem fazer o que queriam porque havia vigias por toda a parte? Como era quando não se podia ouvir certas música e ver os filmes que se queria? Como era quando a roupa das meninas e dos meninos era controlada? Como era quando era obrigatório ir para a guerra e lutar contra pessoas que não nos fizeram mal? Como era…e como é …reencontrar esta história e recontá-la nos dias que correm? A pesquisa incide sobre o levantamento destes acontecimentos históricos e leva-os a cena através de linguagens multidisciplinares e contemporâneas\, para reativar a ideia de liberdade e capacidade de a usufruir e preservar. No decurso da criação surge a voz\, a nossa capacidade de comunicar\, de cantar e de fazer a revolução. Pequena História de Um Povo com Memória é uma ópera transdisciplinar\, que pretende cantar e contar\, aquilo que se torna fundamental para a construção da identidade do ser humano – a liberdade – como fundamento da nossa identidade e história. 								\n				\n				\n						\n					\n			\n						\n				\n							\n			\n						\n		\n						\n				\n				\n				\n									Género: Ópera de Câmara MultimédiaClassificação etária: M/6 anosDuração: 50 minutosÓpera em Português com legendagem em Português 								\n				\n				\n				\n							\n			\n						\n		\n						\n				\n				\n				\n							\n					\n						\n				\n				\n				\n							\n			\n						\n		\n						\n				\n				\n				\n									[Estreia] 8 e 9 de maio de 2021 – Auditório Municipal de Gondomar3 e 4 de março de 2022 – Centro Cultural de Paredes de Coura6 e 7 de outubro de 2022 – Teatro Diogo Bernardes (Ponte de Lima)21 de outubro de 2022 – Teatro Municipal de Matosinhos Constantino Nery28 e 29 de abril de 2023 – Casa da Música do Porto7 de abril de 2024 – Teatro Gil Vicente (Barcelos)24 de abril de 2024 às 17h00 e às 21h30 – Auditório Municipal de Esposende11 de janeiro de 2025 – Cineteatro de Sobral de Monte Agraço18 de abril de 2026 – Espaço Montemuro (Castro Daire) 								\n				\n				\n				\n							\n			\n						\n		\n						\n				\n					\n		\n				\n			\n						\n				\n									Equipa Composição e Libreto: João GriloEncenação e Libreto: Julieta RodriguesIntérpretes: Teresa Nunes (Soprano)\, Crispim Luz (Clarinete)\, Ana Conceição (Violoncelo)\, Sérgio de A (Piano)Desenho Multimédia: Hugo MesquitaDesenho de Luz: Mariana FigueroaDesenho de Som: André J. LeiteOperação de Som: José Afonso MonteiroConcepção de Figurinos e Cenários: Julieta RodriguesCostureira: Marlene RodriguezConstrução de cenários: Rui AzevedoProdução Executiva: Tatiana Rocha (2021 a 2022)\, Marta de Baptista (2023\, 2024) e Jessica Roque (2024)Registo Vídeo: Mário NegrãoRegisto Fotografia: Pedro Sardinha O Quarteto Contratempus é uma estrutura financiada pela República Portuguesa – Cultura / Direção Geral das Artes Apoio: Antena 2\, Riopele\, Nascente – Coorperativa de Ação Cultural\, Fundação GDAParceiros: Município de Gondomar\, Escola Superior de Música e Artes do Espetáculo   								\n				\n					\n		\n					\n		\n					\n		\n					\n		\n				\n		   
URL:https://www.quartetocontratempus.com/eventos/opera-pequena-historia-de-um-povo-com-memoria-espaco-montemuro/
LOCATION:Espaço Montemuro\, Aldeia de Campo Benfeito\, Castro Daire\, Portugal
CATEGORIES:Digressão
ATTACH;FMTTYPE=image/jpeg:https://www.quartetocontratempus.com/wp-content/uploads/2023/11/11_©-Pedro-Sardinha.jpg
END:VEVENT
END:VCALENDAR